BEGIN:VCALENDAR
VERSION:2.0
PRODID:-//FREAMPA-CP - ECPv6.15.20//NONSGML v1.0//EN
CALSCALE:GREGORIAN
METHOD:PUBLISH
X-WR-CALNAME:FREAMPA-CP
X-ORIGINAL-URL:https://freampa.com
X-WR-CALDESC:Eventos para FREAMPA-CP
REFRESH-INTERVAL;VALUE=DURATION:PT1H
X-Robots-Tag:noindex
X-PUBLISHED-TTL:PT1H
BEGIN:VTIMEZONE
TZID:UTC
BEGIN:STANDARD
TZOFFSETFROM:+0000
TZOFFSETTO:+0000
TZNAME:UTC
DTSTART:20220101T000000
END:STANDARD
END:VTIMEZONE
BEGIN:VEVENT
DTSTART;TZID=UTC:20250814T080000
DTEND;TZID=UTC:20251016T170000
DTSTAMP:20260423T115913
CREATED:20250926T161734Z
LAST-MODIFIED:20250926T161734Z
UID:12579-1755158400-1760634000@freampa.com
SUMMARY:RESOLUCION AYUDAS TRANSPORTE ESCOLAR Y/O COMEDOR ESCOLAR
DESCRIPTION:RESOLUCIÓN de 14 de agosto de 2025\, de la Dirección General del Ente Público Extremeño de Servicios Educativos Complementarios\, por la que se convocan ayudas individualizadas de transporte y/o comedor escolar del alumnado escolarizado en centros docentes sostenidos con fondos públicos en la Comunidad Autónoma de Extremadura\, para el curso escolar 2025/2026. (2025063395)
URL:https://freampa.com/evento/resolucion-ayudas-transporte-escolar-y-o-comedor-escolar/
LOCATION:BADAJOZ
END:VEVENT
BEGIN:VEVENT
DTSTART;TZID=UTC:20250528T180000
DTEND;TZID=UTC:20250528T200000
DTSTAMP:20260423T115913
CREATED:20250530T124647Z
LAST-MODIFIED:20250530T124647Z
UID:12512-1748455200-1748462400@freampa.com
SUMMARY:FORMACIÓN ONLINE: «IA en familia – Educar\, prevenir y acompañar»
DESCRIPTION:Charlas formativas
URL:https://freampa.com/evento/formacion-online-ia-en-familia-educar-prevenir-y-acompanar-3/
LOCATION:BADAJOZ
END:VEVENT
BEGIN:VEVENT
DTSTART;TZID=UTC:20250521T180000
DTEND;TZID=UTC:20250521T200000
DTSTAMP:20260423T115913
CREATED:20250530T124601Z
LAST-MODIFIED:20250530T124601Z
UID:12510-1747850400-1747857600@freampa.com
SUMMARY:FORMACIÓN ONLINE: «IA en familia – Educar\, prevenir y acompañar»
DESCRIPTION:Charlas formativas
URL:https://freampa.com/evento/formacion-online-ia-en-familia-educar-prevenir-y-acompanar-2/
LOCATION:BADAJOZ
END:VEVENT
BEGIN:VEVENT
DTSTART;TZID=UTC:20250514T180000
DTEND;TZID=UTC:20250514T200000
DTSTAMP:20260423T115913
CREATED:20250530T124313Z
LAST-MODIFIED:20250530T124313Z
UID:12508-1747245600-1747252800@freampa.com
SUMMARY:FORMACIÓN ONLINE: «IA en familia – Educar\, prevenir y acompañar»
DESCRIPTION:  \nCharlas formativas
URL:https://freampa.com/evento/formacion-online-ia-en-familia-educar-prevenir-y-acompanar/
LOCATION:BADAJOZ
END:VEVENT
BEGIN:VEVENT
DTSTART;TZID=UTC:20250514T180000
DTEND;TZID=UTC:20250514T200000
DTSTAMP:20260423T115913
CREATED:20250510T055321Z
LAST-MODIFIED:20250510T055321Z
UID:12468-1747245600-1747252800@freampa.com
SUMMARY:FREAMPA FORMACIÓN: CHARLA "ENTENDIENDO LOS TRASTORNOS DE LA CONDUCTA ALIMENTARIA”
DESCRIPTION:Charlas formativas \n \n 
URL:https://freampa.com/evento/freampa-formacion-charla-entendiendo-los-trastornos-de-la-conducta-alimentaria/
LOCATION:BADAJOZ
END:VEVENT
BEGIN:VEVENT
DTSTART;TZID=UTC:20250405T080000
DTEND;TZID=UTC:20250406T203000
DTSTAMP:20260423T115913
CREATED:20250320T180426Z
LAST-MODIFIED:20250320T180426Z
UID:12406-1743840000-1743971400@freampa.com
SUMMARY:XXI ENCUENTRO REGIONAL DE AMPAS
DESCRIPTION:XXI ENCUENTRO REGIONAL DE AMPA \nLos días 5 y 6 de abril de 2025\, en Garrovillas de Alconétar\,  celebraremos el XXI ENCUENTRO REGIONAL DE AMPA con la temática «NECESIDADES ESPECÍFICAS DE APOYO EDUCATIVO. ATENCIÓN A LA DIVERSIDAD».
URL:https://freampa.com/evento/xxi-encuentro-regional-de-ampas/
LOCATION:BADAJOZ
END:VEVENT
BEGIN:VEVENT
DTSTART;TZID=UTC:20250315T110000
DTEND;TZID=UTC:20250315T140000
DTSTAMP:20260423T115913
CREATED:20250311T181156Z
LAST-MODIFIED:20250311T181156Z
UID:12382-1742036400-1742047200@freampa.com
SUMMARY:Encuentro Zonal de AMPA en Zafra
DESCRIPTION:JORNADA DE ASESORAMIENTO PARA AMPAS DEL ÁMBITO RURAL en la Provincia de BADAJOZ\n (Zafra)\n15 de Marzo de 2025\n \nConoce FREAMPA-CP y en qué puede ayudar a tu AMPA. \nRelaciónate con otras AMPAS…..\, aclara tus dudas y haz tus propuestas educativas. \nInscribe a tu AMPA enviando un correo a freapa@freapa.com \n¡¡¡Os esperamos!!!
URL:https://freampa.com/evento/encuentro-zonal-de-ampa-en-zafra/
LOCATION:BADAJOZ
END:VEVENT
BEGIN:VEVENT
DTSTART;TZID=UTC:20250304T080000
DTEND;TZID=UTC:20250407T170000
DTSTAMP:20260423T115913
CREATED:20250311T182434Z
LAST-MODIFIED:20250311T182434Z
UID:12386-1741075200-1744045200@freampa.com
SUMMARY:BECAS Patronato Fundación Romanillos
DESCRIPTION:BECAS PARA ESTUDIANTES CON POCOS RECURSOS DEL PATRONATO DE LA FUNDACIÓN ROMANILLOS\nEL PATRONATO DE LA FUNDACION ROMANILLOS acordó convocar becas para estudiantes con escasos recursos económicos para realizar estudios en el CURSO 2025-2026 en cualquier centro público o privado de España. \nA su vez\, se premiarán los mejores expedientes académicos\, según el nivel de estudios\, de los becarios del citado curso. \nLa Fundación Romanillos\, con el fin de contribuir a hacer posible el principio de igualdad de oportunidades\, promueve y apoya la integración social\, educativa y laboral de jóvenes\, mediante la concesión de becas a estudiantes con pocos recursos económicos\, con las que ayudar a costear los gastos de ingreso o continuación de estudios en Colegios\, Institutos Universidades\, u otros centros públicos o privados. \nDESTINATARIOS: familias que no superen los umbrales de renta establecidos en la convocatoria \nIMPORTE: El necesario según cada caso \nPLAZO: Desde el 4 de marzo al 7 de abril 2025 \nMAS INFORMACIÓN EN: \nwww.fundacionromanillos.es \n 
URL:https://freampa.com/evento/becas-patronato-fundacion-romanillos/
LOCATION:BADAJOZ
END:VEVENT
BEGIN:VEVENT
DTSTART;TZID=UTC:20250213T170000
DTEND;TZID=UTC:20250213T190000
DTSTAMP:20260423T115913
CREATED:20250129T175810Z
LAST-MODIFIED:20250129T175810Z
UID:12352-1739466000-1739473200@freampa.com
SUMMARY:MESA REDONDA: "MENORES Y PANTALLAS: IMPACTO. LA IMPORTANCIA DE RETRASAR SU USO"
DESCRIPTION:Charlas formativas
URL:https://freampa.com/evento/mesa-redonda-menores-y-pantallas-impacto-la-importancia-de-retrasar-su-uso/
LOCATION:BADAJOZ
END:VEVENT
BEGIN:VEVENT
DTSTART;TZID=UTC:20250211T080000
DTEND;TZID=UTC:20250313T150000
DTSTAMP:20260423T115913
CREATED:20250311T183727Z
LAST-MODIFIED:20250311T183727Z
UID:12389-1739260800-1741878000@freampa.com
SUMMARY:BECAS para inmersión ligüística en Inglés
DESCRIPTION:BECAS INMERSIÓN LINGÜÍSTICA INGLES\nLa Secretaría de Estado de Educación\, convoca becas para la participación en un programa intensivo de inmersión lingüística en inglés en España durante el mes de julio de 2025. \nCONVOCATORIA: 2400 becas\, en régimen de internado y pensión completa\, de una semana de duración\, en el mes de julio de 2025. \nREQUISITOS: \n– Haber nacido entre el 1 de enero de 2005 y el 31 de diciembre de 2008 \n– Estar matriculado en Bachillerato\, CFGM\, Enseñanzas de idiomas de nivel intermedio o avanzado \n– Haber obtenido en el curso 2024-2025 la condición de becario del Ministerio de Educación\, Formación Profesional y Deportes \n– Tener aprobadas todas las asignaturas del curso 2023-2024 \n– Tener un 9 en inglés \nPLAZO SOLICITUDES: Hasta el 13 marzo a las 15 horas \nINFORMACIÓN EN: \nhttps://www.boe.es/…/2025/02/11/pdfs/BOE-B-2025-4771.pdf \n 
URL:https://freampa.com/evento/becas-para-inmersion-liguistica-en-ingles/
LOCATION:BADAJOZ
END:VEVENT
BEGIN:VEVENT
DTSTART;TZID=UTC:20241026T080000
DTEND;TZID=UTC:20241027T130000
DTSTAMP:20260423T115913
CREATED:20241003T161538Z
LAST-MODIFIED:20241003T161538Z
UID:12212-1729929600-1730034000@freampa.com
SUMMARY:XLIII ASAMBLEA GENERAL Y JORNADA DE FORMACION EN MERIDA
DESCRIPTION:CONVOCATORIA XLIII Asamblea General FREAMPA-CP
URL:https://freampa.com/evento/xliii-asamblea-general-y-jornada-de-formacion-en-merida/
LOCATION:BADAJOZ
END:VEVENT
BEGIN:VEVENT
DTSTART;TZID=UTC:20241001T080000
DTEND;TZID=UTC:20241024T170000
DTSTAMP:20260423T115913
CREATED:20241003T162000Z
LAST-MODIFIED:20241003T162000Z
UID:12214-1727769600-1729789200@freampa.com
SUMMARY:INSCRIPCION XLIII ASAMBLEA GENERAL Y JORNADA DE FORMACION
DESCRIPTION:Consulta el apartado FORMACION/JORNADAS-ASAMBLEAS
URL:https://freampa.com/evento/inscripcion-xliii-asamblea-general-y-jornada-de-formacion/
LOCATION:BADAJOZ
END:VEVENT
BEGIN:VEVENT
DTSTART;TZID=UTC:20240928T110000
DTEND;TZID=UTC:20240928T133000
DTSTAMP:20260423T115913
CREATED:20240905T161753Z
LAST-MODIFIED:20240905T161753Z
UID:12157-1727521200-1727530200@freampa.com
SUMMARY:JORNADA DE ASESORAMIENTO PARA AMPAS DEL ÁMBITO RURAL (Jerte)
DESCRIPTION:
URL:https://freampa.com/evento/jornada-de-asesoramiento-para-ampas-del-ambito-rural-jerte/
LOCATION:BADAJOZ
END:VEVENT
BEGIN:VEVENT
DTSTART;TZID=UTC:20240918T183000
DTEND;TZID=UTC:20240918T203000
DTSTAMP:20260423T115913
CREATED:20240905T161904Z
LAST-MODIFIED:20240905T161904Z
UID:12159-1726684200-1726691400@freampa.com
SUMMARY:REUNION DE CENSORES DE CUENTAS DE FREAMPA
DESCRIPTION:Reunión anual de censores para la revisión de las cuentas y contabilizad a presentar a la Asamblea General para su aprobación.
URL:https://freampa.com/evento/reunion-de-censores-de-cuentas-de-freampa/
LOCATION:BADAJOZ
END:VEVENT
BEGIN:VEVENT
DTSTART;TZID=UTC:20240912T080000
DTEND;TZID=UTC:20241010T235900
DTSTAMP:20260423T115913
CREATED:20240912T162243Z
LAST-MODIFIED:20240912T162243Z
UID:12165-1726128000-1728604740@freampa.com
SUMMARY:AYUDAS AMPAS CENTROS PUBLICOS EXTREMADURA 2024-2025
DESCRIPTION:RESOLUCIÓN de 20 de agosto de 2024\, de la Dirección General de Formación
URL:https://freampa.com/evento/ayudas-ampas-extremadura-2024-2025/
LOCATION:BADAJOZ
END:VEVENT
BEGIN:VEVENT
DTSTART;TZID=UTC:20240529T170000
DTEND;TZID=UTC:20240529T190000
DTSTAMP:20260423T115913
CREATED:20240429T170721Z
LAST-MODIFIED:20240429T170721Z
UID:11957-1717002000-1717009200@freampa.com
SUMMARY:FORMACIÓN PARA CIBERFAMILIAS: SEGURIDAD EN REDES SOCIALES
DESCRIPTION:Formación Ciberseguridad Familias v2
URL:https://freampa.com/evento/seguridad-en-redes-sociales/
LOCATION:BADAJOZ
END:VEVENT
BEGIN:VEVENT
DTSTART;TZID=UTC:20240522T170000
DTEND;TZID=UTC:20240522T190000
DTSTAMP:20260423T115913
CREATED:20240429T170540Z
LAST-MODIFIED:20240429T170540Z
UID:11954-1716397200-1716404400@freampa.com
SUMMARY:FORMACIÓN PARA CIBERFAMILIAS: PREVENCIÓN DEL CIBERACOSO
DESCRIPTION:Formación Ciberseguridad Familias
URL:https://freampa.com/evento/prevencion-del-ciberacoso/
LOCATION:BADAJOZ
END:VEVENT
BEGIN:VEVENT
DTSTART;VALUE=DATE:20240521
DTEND;VALUE=DATE:20240618
DTSTAMP:20260423T115913
CREATED:20240522T163315Z
LAST-MODIFIED:20240522T163315Z
UID:12044-1716249600-1718668799@freampa.com
SUMMARY:CONVOCATORIAS PLAZAS EN RESIDENCIAS ESCOLARES EXTREMADURA
DESCRIPTION:ORDEN de 13 de mayo de 2024 por la que se convocan plazas en RESIDENCIAS ESCOLARES de la Comunidad Autónoma de Extremadura para el alumnado \nmatriculado en centros públicos en el curso 2024/2025
URL:https://freampa.com/evento/convocatorias-plazas-en-residencias-escolares-extremadura/
LOCATION:BADAJOZ
CATEGORIES:Ayudas y becas
END:VEVENT
BEGIN:VEVENT
DTSTART;TZID=UTC:20240508T170000
DTEND;TZID=UTC:20240508T190000
DTSTAMP:20260423T115913
CREATED:20240429T170401Z
LAST-MODIFIED:20240429T170401Z
UID:11952-1715187600-1715194800@freampa.com
SUMMARY:FORMACIÓN PARA CIBERFAMILIAS: PROTECCIÓN DE DISPOSITIVOS DIGITALES
DESCRIPTION:Formación Ciberseguridad Familias
URL:https://freampa.com/evento/proteccion-de-dispositivos-digitales/
LOCATION:BADAJOZ
END:VEVENT
BEGIN:VEVENT
DTSTART;TZID=UTC:20240420T093000
DTEND;TZID=UTC:20240421T120000
DTSTAMP:20260423T115913
CREATED:20240403T161132Z
LAST-MODIFIED:20240403T161132Z
UID:11884-1713605400-1713700800@freampa.com
SUMMARY:XX ENCUENTRO REGIONAL DE AMPA "CIBERFAMILIAS. FORMANDO EN NUEVAS TECNOLOGÍAS"
DESCRIPTION:BORRADOR PROGRAMA XX ENCUENTRO REGIONAL DE AMPAS 2024
URL:https://freampa.com/evento/xx-encuentro-regional-de-ampa-ciberfamilias-formando-en-nuevas-tecnologias/
LOCATION:BADAJOZ
END:VEVENT
BEGIN:VEVENT
DTSTART;TZID=UTC:20240316T103000
DTEND;TZID=UTC:20240316T120000
DTSTAMP:20260423T115913
CREATED:20240229T180135Z
LAST-MODIFIED:20240229T180135Z
UID:11777-1710585000-1710590400@freampa.com
SUMMARY:JORNADA DE ASESORAMIENTO PARA AMPAS DEL ÁMBITO RURAL (Villuercas\, Ibores\, Jara) 16 de Marzo de 2024
DESCRIPTION:
URL:https://freampa.com/evento/jornada-de-asesoramiento-para-ampas-del-ambito-rural-villuercas-ibores-jara-16-de-marzo-de-2024/
LOCATION:BADAJOZ
END:VEVENT
BEGIN:VEVENT
DTSTART;VALUE=DATE:20240228
DTEND;VALUE=DATE:20240229
DTSTAMP:20260423T115913
CREATED:20240220T184253Z
LAST-MODIFIED:20240220T184253Z
UID:11751-1709078400-1709164799@freampa.com
SUMMARY:"CONSTRUYE UN ENTORNO DIGITAL SEGURO PARA TUS HIJOS. SEGURIDAD EN REDES SOCIALES. CONTROL PARENTAL"
DESCRIPTION:Consulta en nuestra web en ACTUALIDAD/De interés para AMPAS \n¡Participa!
URL:https://freampa.com/evento/construye-un-entorno-digital-seguro-para-tus-hijos-seguridad-en-redes-sociales-control-parental/
LOCATION:BADAJOZ
END:VEVENT
BEGIN:VEVENT
DTSTART;TZID=UTC:20240208T080000
DTEND;TZID=UTC:20240930T170000
DTSTAMP:20260423T115913
CREATED:20240208T184108Z
LAST-MODIFIED:20240208T184108Z
UID:11730-1707379200-1727715600@freampa.com
SUMMARY:XVI CONCURSO LA TOLERANCIA TAMBIEN ES TU TRABAJO
DESCRIPTION:Consulta el apartado CONCURSOS
URL:https://freampa.com/evento/xvi-concurso-la-tolerancia-tambien-es-tu-trabajo-3/
LOCATION:BADAJOZ
END:VEVENT
BEGIN:VEVENT
DTSTART;VALUE=DATE:20231221
DTEND;VALUE=DATE:20240201
DTSTAMP:20260423T115913
CREATED:20231221T181309Z
LAST-MODIFIED:20231221T181309Z
UID:11669-1703116800-1706745599@freampa.com
SUMMARY:Encuesta sobre uso de móviles en los Centros Educativos
DESCRIPTION:
URL:https://freampa.com/evento/encuesta-sobre-uso-de-moviles-en-los-centros-educativos/
LOCATION:BADAJOZ
END:VEVENT
BEGIN:VEVENT
DTSTART;TZID=UTC:20231104T110000
DTEND;TZID=UTC:20231104T150000
DTSTAMP:20260423T115913
CREATED:20231102T183355Z
LAST-MODIFIED:20231102T183355Z
UID:11626-1699095600-1699110000@freampa.com
SUMMARY:ENCUENTRO ZONAL DE AMPA NOROESTE DE EXTREMADURA-CORIA 04-11-2023
DESCRIPTION:
URL:https://freampa.com/evento/encuentro-zonal-de-ampa-noroeste-de-extremadura-coria-04-11-2023/
LOCATION:BADAJOZ
END:VEVENT
BEGIN:VEVENT
DTSTART;TZID=UTC:20231021T170000
DTEND;TZID=UTC:20231022T130000
DTSTAMP:20260423T115913
CREATED:20231003T172628Z
LAST-MODIFIED:20231003T172628Z
UID:11599-1697907600-1697979600@freampa.com
SUMMARY:XLII Asamblea General Ordinaria-Extraordinaria
DESCRIPTION:
URL:https://freampa.com/evento/xlii-asamblea-general-ordinaria-extraordinaria/
LOCATION:BADAJOZ
END:VEVENT
BEGIN:VEVENT
DTSTART;TZID=UTC:20231021T080000
DTEND;TZID=UTC:20231021T140000
DTSTAMP:20260423T115913
CREATED:20231003T172136Z
LAST-MODIFIED:20231003T172136Z
UID:11593-1697875200-1697896800@freampa.com
SUMMARY:Jornada de Formación de AMPAS "BULLIYNG\, ESE GRAN PROBLEMA"
DESCRIPTION:
URL:https://freampa.com/evento/jornada-de-formacion-de-ampa-bulliyng-ese-gran-problema/
LOCATION:BADAJOZ
END:VEVENT
BEGIN:VEVENT
DTSTART;TZID=UTC:20230930T080000
DTEND;TZID=UTC:20230930T233000
DTSTAMP:20260423T115913
CREATED:20230913T170925Z
LAST-MODIFIED:20230913T170925Z
UID:11575-1696060800-1696116600@freampa.com
SUMMARY:Último día presentación trabajos XVI Concurso la Tolerancia También es tu Trabajo
DESCRIPTION:
URL:https://freampa.com/evento/ultimo-dia-presentacion-trabajos-xvi-concurso-la-tolerancia-tambien-es-tu-trabajo/
LOCATION:BADAJOZ
END:VEVENT
BEGIN:VEVENT
DTSTART;TZID=UTC:20230925T080000
DTEND;TZID=UTC:20230930T233000
DTSTAMP:20260423T115913
CREATED:20230411T163333Z
LAST-MODIFIED:20230411T163333Z
UID:11507-1695628800-1696116600@freampa.com
SUMMARY:XVI Concurso "La Tolerancia también es tu trabajo"
DESCRIPTION:Últimos días de presentación de trabajos (01/04/2023 al 30/09/2023)
URL:https://freampa.com/evento/xvi-concurso-la-tolerancia-tambien-es-tu-trabajo-2/
LOCATION:BADAJOZ
END:VEVENT
BEGIN:VEVENT
DTSTART;TZID=UTC:20230422T090000
DTEND;TZID=UTC:20230423T160000
DTSTAMP:20260423T115913
CREATED:20230315T185836Z
LAST-MODIFIED:20230315T185836Z
UID:11465-1682154000-1682265600@freampa.com
SUMMARY:XIX ENCUENTRO REGIONAL DE AMPA EN ALMENDRALEJO
DESCRIPTION:Como todos los años celebraremos nuestro Encuentro Regional de Ampa. \nEste año la localidad elegida ha sido Almendralejo y la temática \n“PROPUESTAS EDUCATIVAS PARA EXTREMADURA Y SALUD MENTAL”. \nPara consultar más información accede al menú FORMACIÓN/JORNADAS DE PRIMAVERA. \nId reservando las fechas.
URL:https://freampa.com/evento/xix-encuentro-regional-de-ampa-en-almendralejo/
LOCATION:BADAJOZ
END:VEVENT
END:VCALENDAR